BEGIN:VCALENDAR
VERSION:2.0
PRODID:-//Café Théo Chambery - ETEL - ECPv5.3.2.1//NONSGML v1.0//EN
CALSCALE:GREGORIAN
METHOD:PUBLISH
X-WR-CALNAME:Café Théo Chambery - ETEL
X-ORIGINAL-URL:https://cafe-theo-chambery.fr
X-WR-CALDESC:évènements pour Café Théo Chambery - ETEL
BEGIN:VTIMEZONE
TZID:Europe/Paris
BEGIN:DAYLIGHT
TZOFFSETFROM:+0100
TZOFFSETTO:+0200
TZNAME:CEST
DTSTART:20170326T010000
END:DAYLIGHT
BEGIN:STANDARD
TZOFFSETFROM:+0200
TZOFFSETTO:+0100
TZNAME:CET
DTSTART:20171029T010000
END:STANDARD
END:VTIMEZONE
BEGIN:VEVENT
DTSTART;TZID=Europe/Paris:20171110T080000
DTEND;TZID=Europe/Paris:20171110T170000
DTSTAMP:20260420T110339
CREATED:20171110T170903Z
LAST-MODIFIED:20171127T210702Z
UID:342-1510300800-1510333200@cafe-theo-chambery.fr
SUMMARY:Stage - 18 & 19 Novembre 2017
DESCRIPTION:L’association ETEL organise un stage avec MANUEL COLEY\nDans le prolongement du Café Théo de l’année dernière qui a eu tant de succès \nChant et Silence:\nChanter pour faire la paix\nChambéry 18 et 19 novembre 2017 \nChanter pour s’orienter et marcher vers la paix en soi.\nChanter ensemble pour contribuer\, à notre modeste mesure de colibris\, à embellir le monde tant il est vrai que c’est la réalisation de la beauté qui le sauvera. \nCet atelier se veut avant tout pratique et expérimental : chanter c’est faire de la musique en étant à la fois l’instrument et l’instrumentiste. Le chant sacré nourrit notre corps de gratitude\, qui\, à son tour\, purifie et soigne les autres corps de la personne (persona : étymologiquement « ce par quoi le son résonne »).\nPar le chant grégorien\, les polyphonies d’hier et d’aujourd’hui et l’improvisation\, nous expérimenterons le chant comme cheminement de résonance vers la Source en alternant chant collectif\, chant intérieur et méditation silencieuse des textes chantés\, nourrie de commentaires des grands mystiques d’hier et d’aujourd’hui. \nProgramme identique Samedi et Dimanche :\n(Pensez à vos tapis de méditation) \n9 h Accueil\n9 h30 à 11h Chant et silence\n11h à 11h30 Pause\n11h30 à 12h30 Chant et silence\n12h30 à 14h: repas partagé et pause\n(Pour le repas chacun apporte un plat sucré ou salé)\n14h à 15h30 chant et silence\n15h30 à 16h pause\n16h à 17h chant et silence \nCoût du stage pour les 2 jours 80 € Nombre de places limitées.\nTarif réduit (pour que vous n’hésitiez pas à venir) Nous consulter. \nRéservation auprès de jrastello@free.fr\nInscription dès réception de votre chèque (à l’ordre de ETEL)\nEnvoyé à jacqueline RASTELLO – le JOVINAL – 73160 VIMINES
URL:https://cafe-theo-chambery.fr/evenements/18-19-novembre-2017/
LOCATION:Le Jovinal\, Le Jovinal\, Vimines\, 73160\, France
CATEGORIES:Conférences
END:VEVENT
END:VCALENDAR