BEGIN:VCALENDAR
VERSION:2.0
PRODID:-//Café Théo Chambery - ETEL - ECPv5.3.2.1//NONSGML v1.0//EN
CALSCALE:GREGORIAN
METHOD:PUBLISH
X-WR-CALNAME:Café Théo Chambery - ETEL
X-ORIGINAL-URL:https://cafe-theo-chambery.fr
X-WR-CALDESC:évènements pour Café Théo Chambery - ETEL
BEGIN:VTIMEZONE
TZID:Europe/Paris
BEGIN:DAYLIGHT
TZOFFSETFROM:+0100
TZOFFSETTO:+0200
TZNAME:CEST
DTSTART:20200329T010000
END:DAYLIGHT
BEGIN:STANDARD
TZOFFSETFROM:+0200
TZOFFSETTO:+0100
TZNAME:CET
DTSTART:20201025T010000
END:STANDARD
END:VTIMEZONE
BEGIN:VEVENT
DTSTART;TZID=Europe/Paris:20200204T200000
DTEND;TZID=Europe/Paris:20200204T223000
DTSTAMP:20260420T014825
CREATED:20200118T152141Z
LAST-MODIFIED:20200118T152141Z
UID:1196-1580846400-1580855400@cafe-theo-chambery.fr
SUMMARY:Café théo - mardi 4 février 2020
DESCRIPTION:Conscience écologique et spiritualité : Quel est le sens d’une pratique spirituelle\ndans le monde actuel ?\nPar Emmanuel DESJARDINS qui assure depuis 2014\, la direction spirituelle du Centre de Hauteville fondé par\nson père Arnaud DESJARDINS. \nTarifs : Adulte 10 €  Etudiant\, Chômeur : 7 €\nSoirée au bénéfice du Centre de Hauteville
URL:https://cafe-theo-chambery.fr/evenements/cafe-theo-mardi-4-fevrier-2020/
LOCATION:Cinéma Jean Renoir\, 30 rue Nicolas Parent\, Chambéry\, 73000\, France
CATEGORIES:Conférences
END:VEVENT
END:VCALENDAR