BEGIN:VCALENDAR
VERSION:2.0
PRODID:-//Café Théo Chambery - ETEL - ECPv5.3.2.1//NONSGML v1.0//EN
CALSCALE:GREGORIAN
METHOD:PUBLISH
X-WR-CALNAME:Café Théo Chambery - ETEL
X-ORIGINAL-URL:https://cafe-theo-chambery.fr
X-WR-CALDESC:évènements pour Café Théo Chambery - ETEL
BEGIN:VTIMEZONE
TZID:Europe/Paris
BEGIN:DAYLIGHT
TZOFFSETFROM:+0100
TZOFFSETTO:+0200
TZNAME:CEST
DTSTART:20200329T010000
END:DAYLIGHT
BEGIN:STANDARD
TZOFFSETFROM:+0200
TZOFFSETTO:+0100
TZNAME:CET
DTSTART:20201025T010000
END:STANDARD
END:VTIMEZONE
BEGIN:VEVENT
DTSTART;TZID=Europe/Paris:20201006T190000
DTEND;TZID=Europe/Paris:20201006T210000
DTSTAMP:20260423T120934
CREATED:20200909T190612Z
LAST-MODIFIED:20200909T191617Z
UID:1303-1602010800-1602018000@cafe-theo-chambery.fr
SUMMARY:Mardi 6 octobre 2020 - Café théo
DESCRIPTION:“La position de l’homme et sa responsabilité face au Vivant”\nLe sujet sera animé par Jean-Marc MONGELLAZ\, de la Communauté Baha’ïe de Chambéry\, arboriculteur en Biodynamie\, issu d’une famille d’agriculteurs depuis…. des siècles.
URL:https://cafe-theo-chambery.fr/evenements/mardi-6-octobre-2020-19h00/
LOCATION:Salle Jean-Baptiste Carron\, Le Biollay - 119 place René Vair\, CHAMBERY\, 73000\, France
CATEGORIES:Conférences
END:VEVENT
END:VCALENDAR