BEGIN:VCALENDAR
VERSION:2.0
PRODID:-//Café Théo Chambery - ETEL - ECPv5.3.2.1//NONSGML v1.0//EN
CALSCALE:GREGORIAN
METHOD:PUBLISH
X-WR-CALNAME:Café Théo Chambery - ETEL
X-ORIGINAL-URL:https://cafe-theo-chambery.fr
X-WR-CALDESC:évènements pour Café Théo Chambery - ETEL
BEGIN:VTIMEZONE
TZID:Europe/Paris
BEGIN:DAYLIGHT
TZOFFSETFROM:+0100
TZOFFSETTO:+0200
TZNAME:CEST
DTSTART:20170326T010000
END:DAYLIGHT
BEGIN:STANDARD
TZOFFSETFROM:+0200
TZOFFSETTO:+0100
TZNAME:CET
DTSTART:20171029T010000
END:STANDARD
END:VTIMEZONE
BEGIN:VEVENT
DTSTART;TZID=Europe/Paris:20171205T183000
DTEND;TZID=Europe/Paris:20171205T210000
DTSTAMP:20260420T103727
CREATED:20171125T233614Z
LAST-MODIFIED:20171127T210519Z
UID:547-1512498600-1512507600@cafe-theo-chambery.fr
SUMMARY:Rencontre mensuelle décembre 2017
DESCRIPTION:« Un chemin de vie ou « le devenir de l’être…en paix ! » Par Marie-Paule FLORIN\, professionnelle dans le domaine de la santé et membre de JALMAV (Jusqu’A La Mort\, Accompagner la Vie) \nVoir tous les évènements mensuels
URL:https://cafe-theo-chambery.fr/evenements/conference-mensuelle-5-decembre-2017/
LOCATION:Café du Beaujolais\, 155 Rue Nicolas Parent\, Chambéry\, 73000\, France
CATEGORIES:Conférences
END:VEVENT
END:VCALENDAR