BEGIN:VCALENDAR
VERSION:2.0
PRODID:-//Café Théo Chambery - ETEL - ECPv5.3.2.1//NONSGML v1.0//EN
CALSCALE:GREGORIAN
METHOD:PUBLISH
X-WR-CALNAME:Café Théo Chambery - ETEL
X-ORIGINAL-URL:https://cafe-theo-chambery.fr
X-WR-CALDESC:évènements pour Café Théo Chambery - ETEL
BEGIN:VTIMEZONE
TZID:Europe/Paris
BEGIN:DAYLIGHT
TZOFFSETFROM:+0100
TZOFFSETTO:+0200
TZNAME:CEST
DTSTART:20190331T010000
END:DAYLIGHT
BEGIN:STANDARD
TZOFFSETFROM:+0200
TZOFFSETTO:+0100
TZNAME:CET
DTSTART:20191027T010000
END:STANDARD
END:VTIMEZONE
BEGIN:VEVENT
DTSTART;TZID=Europe/Paris:20191011T170000
DTEND;TZID=Europe/Paris:20191016T183000
DTSTAMP:20260420T040519
CREATED:20190915T201156Z
LAST-MODIFIED:20190916T194248Z
UID:1101-1570813200-1571250600@cafe-theo-chambery.fr
SUMMARY:Du 11 au 16 octobre 2019 - Stage
DESCRIPTION:“Joie du corps\, du cœur et de l’esprit”\nStage avec différents ateliers et intervenants. \nLes intervenants :\n– Frère Jean-Pierre Gautier\, qui avait animé des ateliers il y a 3 ans : Qi Gong et méditation ;\n– Shantal Rémus : yoga du cashmir ;\n– Martine Félix et Cécile Donzallas : sophrologie et relaxation ;\n– Claire Renouard : danse libre ;\n– Martine Buensos et Jean Duquesnoy : chant.\nCf tableau ci-joint : \nTélécharger (PDF\, 63KB)  \nDates : du vendredi 11 au soir au mercredi 16 octobre\nHoraires : de 10 h à 18 h 30 avec une pause déjeuner de 1h30 où vous pourrez pique-niquer sur place si vous le souhaitez\, mais pas de possibilité de faire réchauffer des plats. \nTarif : 30 € la journée et 125 € les 5 jours ;\nLieu : Le Bois Joli à Jacob-Bellecombette\nVous pouvez vous inscrire avec l’envoi d’un chèque au nom d’ETEL auprès de Jacqueline Rastello\, Le Jovinal 73160 Vimines. L’inscription sera effective à réception du chèque. Bien spécifier le jour choisi.
URL:https://cafe-theo-chambery.fr/evenements/du-11-au-16-octobre-2019-stage/
LOCATION:Le Bois Joli Jacob-Bellecombette\, 185 Route des Entremonts\, Jacob-Bellecombette\, 73000\, France
CATEGORIES:Stage
END:VEVENT
END:VCALENDAR