BEGIN:VCALENDAR
VERSION:2.0
PRODID:-//Café Théo Chambery - ETEL - ECPv5.3.2.1//NONSGML v1.0//EN
CALSCALE:GREGORIAN
METHOD:PUBLISH
X-WR-CALNAME:Café Théo Chambery - ETEL
X-ORIGINAL-URL:https://cafe-theo-chambery.fr
X-WR-CALDESC:évènements pour Café Théo Chambery - ETEL
BEGIN:VTIMEZONE
TZID:Europe/Paris
BEGIN:DAYLIGHT
TZOFFSETFROM:+0100
TZOFFSETTO:+0200
TZNAME:CEST
DTSTART:20180325T010000
END:DAYLIGHT
BEGIN:STANDARD
TZOFFSETFROM:+0200
TZOFFSETTO:+0100
TZNAME:CET
DTSTART:20181028T010000
END:STANDARD
END:VTIMEZONE
BEGIN:VEVENT
DTSTART;TZID=Europe/Paris:20180206T183000
DTEND;TZID=Europe/Paris:20180206T210000
DTSTAMP:20260420T103611
CREATED:20171125T234641Z
LAST-MODIFIED:20171127T210950Z
UID:552-1517941800-1517950800@cafe-theo-chambery.fr
SUMMARY:Rencontre mensuelle février 2017
DESCRIPTION:« Comment confédérer nos forces sur le terrain ? »\nPar Farhan Yazdani\, chirurgien baha’ï \, impliqué dans l’éthique et le dialogue inter-religieux. \nVoir tous les évènements mensuels
URL:https://cafe-theo-chambery.fr/evenements/evenement-mensuel-6-fevrier-2018/
LOCATION:Café du Beaujolais\, 155 Rue Nicolas Parent\, Chambéry\, 73000\, France
CATEGORIES:Conférences
END:VEVENT
END:VCALENDAR