BEGIN:VCALENDAR
VERSION:2.0
PRODID:-//Café Théo Chambery - ETEL - ECPv5.3.2.1//NONSGML v1.0//EN
CALSCALE:GREGORIAN
METHOD:PUBLISH
X-WR-CALNAME:Café Théo Chambery - ETEL
X-ORIGINAL-URL:https://cafe-theo-chambery.fr
X-WR-CALDESC:évènements pour Café Théo Chambery - ETEL
BEGIN:VTIMEZONE
TZID:Europe/Paris
BEGIN:DAYLIGHT
TZOFFSETFROM:+0100
TZOFFSETTO:+0200
TZNAME:CEST
DTSTART:20200329T010000
END:DAYLIGHT
BEGIN:STANDARD
TZOFFSETFROM:+0200
TZOFFSETTO:+0100
TZNAME:CET
DTSTART:20201025T010000
END:STANDARD
END:VTIMEZONE
BEGIN:VEVENT
DTSTART;TZID=Europe/Paris:20200205T090000
DTEND;TZID=Europe/Paris:20200205T173000
DTSTAMP:20260420T015033
CREATED:20200118T153218Z
LAST-MODIFIED:20200118T155947Z
UID:1201-1580893200-1580923800@cafe-theo-chambery.fr
SUMMARY:Journée Rencontre - mercredi 5 février 2020
DESCRIPTION:Présentation de l’enseignement spirituel transmis par Arnaud Desjardins.\nQuestions / Réponses avec son fils Emmanuel Desjardins.\nAu choix\, toute la journée ou demi-journée :\n9h à 12h30 et 14h à 17h30. \nRéservation conseillée : jac.rastello73@gmail.com \nParticipation aux frais : libre donation consciente \n\nTélécharger (PDF\, 237KB)
URL:https://cafe-theo-chambery.fr/evenements/journee-rencontre-mercredi-5-fevrier-2020/
LOCATION:Le Bois Joli Jacob-Bellecombette\, 185 Route des Entremonts\, Jacob-Bellecombette\, 73000\, France
CATEGORIES:Journée Rencontre
END:VEVENT
END:VCALENDAR