BEGIN:VCALENDAR
VERSION:2.0
PRODID:-//Café Théo Chambery - ETEL - ECPv5.3.2.1//NONSGML v1.0//EN
CALSCALE:GREGORIAN
METHOD:PUBLISH
X-WR-CALNAME:Café Théo Chambery - ETEL
X-ORIGINAL-URL:https://cafe-theo-chambery.fr
X-WR-CALDESC:évènements pour Café Théo Chambery - ETEL
BEGIN:VTIMEZONE
TZID:Europe/Paris
BEGIN:DAYLIGHT
TZOFFSETFROM:+0100
TZOFFSETTO:+0200
TZNAME:CEST
DTSTART:20200329T010000
END:DAYLIGHT
BEGIN:STANDARD
TZOFFSETFROM:+0200
TZOFFSETTO:+0100
TZNAME:CET
DTSTART:20201025T010000
END:STANDARD
END:VTIMEZONE
BEGIN:VEVENT
DTSTART;TZID=Europe/Paris:20200309T203000
DTEND;TZID=Europe/Paris:20200309T223000
DTSTAMP:20260420T014714
CREATED:20200212T102455Z
LAST-MODIFIED:20200212T102826Z
UID:1229-1583785800-1583793000@cafe-theo-chambery.fr
SUMMARY:Lundi 9 mars 2020 - Film
DESCRIPTION:« L’autre connexion\, une école dans la nature sauvage »\, qui présente une culture basée sur les traditions indigènes\, et qui ouvre sur un autre rapport au vivant et à la spiritualité»\nProjection du film avec la présence de la réalisatrice Cécile FAULHABER. \nCinéma Le Forum à Chambéry-le-Haut – 20h30\nPrix d’entrée : prix du cinéma
URL:https://cafe-theo-chambery.fr/evenements/lundi-9-mars-2020-film/
LOCATION:Cinéma Le Forum\, 28 Place du Forum\, Chambéry-le-Haut
CATEGORIES:Projection
END:VEVENT
END:VCALENDAR