BEGIN:VCALENDAR
VERSION:2.0
PRODID:-//Café Théo Chambery - ETEL - ECPv5.3.2.1//NONSGML v1.0//EN
CALSCALE:GREGORIAN
METHOD:PUBLISH
X-WR-CALNAME:Café Théo Chambery - ETEL
X-ORIGINAL-URL:https://cafe-theo-chambery.fr
X-WR-CALDESC:évènements pour Café Théo Chambery - ETEL
BEGIN:VTIMEZONE
TZID:Europe/Paris
BEGIN:DAYLIGHT
TZOFFSETFROM:+0100
TZOFFSETTO:+0200
TZNAME:CEST
DTSTART:20200329T010000
END:DAYLIGHT
BEGIN:STANDARD
TZOFFSETFROM:+0200
TZOFFSETTO:+0100
TZNAME:CET
DTSTART:20201025T010000
END:STANDARD
END:VTIMEZONE
BEGIN:VEVENT
DTSTART;TZID=Europe/Paris:20201201T190000
DTEND;TZID=Europe/Paris:20201201T210000
DTSTAMP:20260419T234656
CREATED:20200917T195546Z
LAST-MODIFIED:20201126T203936Z
UID:1344-1606849200-1606856400@cafe-theo-chambery.fr
SUMMARY:Mardi 1er décembre 2020 - Café théo
DESCRIPTION:A la découverte du vivant « Eveil et Guérison »\nPar Laëtitia ELLEM. Atteinte d’un lupus et d’une fibromyalgie\, Laëtitia ELLEM nous partagera son histoire et sa guérison par l’éveil et sa prise de conscience du vivant.\nElle est magnétiseur\, coach énergétique.\nElle fait des accompagnements personnel et spirituel. \nRéunion en visioconférence Zoom\nVoir l’article et les modalités d’accès ici.
URL:https://cafe-theo-chambery.fr/evenements/mardi-1er-decembre-2020-cafe-theo/
LOCATION:visioconférence Zoom
CATEGORIES:Conférences
END:VEVENT
END:VCALENDAR