BEGIN:VCALENDAR
VERSION:2.0
PRODID:-//Café Théo Chambery - ETEL - ECPv5.3.2.1//NONSGML v1.0//EN
CALSCALE:GREGORIAN
METHOD:PUBLISH
X-WR-CALNAME:Café Théo Chambery - ETEL
X-ORIGINAL-URL:https://cafe-theo-chambery.fr
X-WR-CALDESC:évènements pour Café Théo Chambery - ETEL
BEGIN:VTIMEZONE
TZID:Europe/Paris
BEGIN:DAYLIGHT
TZOFFSETFROM:+0100
TZOFFSETTO:+0200
TZNAME:CEST
DTSTART:20190331T010000
END:DAYLIGHT
BEGIN:STANDARD
TZOFFSETFROM:+0200
TZOFFSETTO:+0100
TZNAME:CET
DTSTART:20191027T010000
END:STANDARD
END:VTIMEZONE
BEGIN:VEVENT
DTSTART;TZID=Europe/Paris:20191203T183000
DTEND;TZID=Europe/Paris:20191203T210000
DTSTAMP:20260420T033505
CREATED:20190915T191718Z
LAST-MODIFIED:20191122T215322Z
UID:1099-1575397800-1575406800@cafe-theo-chambery.fr
SUMMARY:Mardi 3 décembre 2019 - Café théo
DESCRIPTION:« La spiritualité\, clé du changement\, pour prendre soin de l’humain et de la terre »\nPar Cécile ENTREMONT\, psychothérapeute\, éco-théologienne\, enseignante de Qi Gong\, engagée dans diverses associations pour le lien social et l’écologie. \n\nTélécharger (PDF\, 23KB) \nAttention :\nLe café-restaurant Le Beaujolais à Chambéry étant momentanément fermé\, cette conférence aura lieu à la salle La Dynamo\, 24 avenue Daniel Rops à Chambéry-le-Haut.\nSéance exceptionnellement gratuite.
URL:https://cafe-theo-chambery.fr/evenements/mardi-3-decembre-2019-cafe-theo/
LOCATION:Salle La Dynamo\, 24 avenue Daniel Rops\, Chambéry\, 73000\, France
CATEGORIES:Conférences
END:VEVENT
END:VCALENDAR