BEGIN:VCALENDAR
VERSION:2.0
PRODID:-//Café Théo Chambery - ETEL - ECPv5.3.2.1//NONSGML v1.0//EN
CALSCALE:GREGORIAN
METHOD:PUBLISH
X-WR-CALNAME:Café Théo Chambery - ETEL
X-ORIGINAL-URL:https://cafe-theo-chambery.fr
X-WR-CALDESC:évènements pour Café Théo Chambery - ETEL
BEGIN:VTIMEZONE
TZID:Europe/Paris
BEGIN:DAYLIGHT
TZOFFSETFROM:+0100
TZOFFSETTO:+0200
TZNAME:CEST
DTSTART:20190331T010000
END:DAYLIGHT
BEGIN:STANDARD
TZOFFSETFROM:+0200
TZOFFSETTO:+0100
TZNAME:CET
DTSTART:20191027T010000
END:STANDARD
END:VTIMEZONE
BEGIN:VEVENT
DTSTART;TZID=Europe/Paris:20190205T183000
DTEND;TZID=Europe/Paris:20190205T210000
DTSTAMP:20260420T051710
CREATED:20181209T163412Z
LAST-MODIFIED:20190207T081820Z
UID:956-1549391400-1549400400@cafe-theo-chambery.fr
SUMMARY:Mardi 5 février 2019 - Café théo
DESCRIPTION:« Un chemin de vie : du jugement à la gratitude »\npar Sabine MICHELIN-PIGEON qui est passée d’une éducation catholique stricte au Chemin proposé par Arnaud Desjardins.\nInfirmière puis comédienne pendant 23 ans\, aujourd’hui professeur de Clown\, elle est également investie dans un Centre écologique dans lequel la Permaculture et la Connexion à la nature sont un terreau de pratique quotidienne.
URL:https://cafe-theo-chambery.fr/evenements/mardi-5-fevrier-2019-cafe-theo/
LOCATION:Café du Beaujolais\, 155 Rue Nicolas Parent\, Chambéry\, 73000\, France
CATEGORIES:Conférences
END:VEVENT
END:VCALENDAR