BEGIN:VCALENDAR
VERSION:2.0
PRODID:-//Café Théo Chambery - ETEL - ECPv5.3.2.1//NONSGML v1.0//EN
CALSCALE:GREGORIAN
METHOD:PUBLISH
X-WR-CALNAME:Café Théo Chambery - ETEL
X-ORIGINAL-URL:https://cafe-theo-chambery.fr
X-WR-CALDESC:évènements pour Café Théo Chambery - ETEL
BEGIN:VTIMEZONE
TZID:Europe/Paris
BEGIN:DAYLIGHT
TZOFFSETFROM:+0100
TZOFFSETTO:+0200
TZNAME:CEST
DTSTART:20210328T010000
END:DAYLIGHT
BEGIN:STANDARD
TZOFFSETFROM:+0200
TZOFFSETTO:+0100
TZNAME:CET
DTSTART:20211031T010000
END:STANDARD
END:VTIMEZONE
BEGIN:VEVENT
DTSTART;TZID=Europe/Paris:20210105T183000
DTEND;TZID=Europe/Paris:20210105T210000
DTSTAMP:20260419T215032
CREATED:20201228T154933Z
LAST-MODIFIED:20201228T154933Z
UID:1378-1609871400-1609880400@cafe-theo-chambery.fr
SUMMARY:Mardi 5 janvier 2021 - Café théo
DESCRIPTION:« L’arbre des sefirot et la danse infinie entre ciel et terre \nQuel enseignement mystique aujourd’hui ? » \nPar Yaël Gronner\, franco-israëlienne et juive\,\nenseignante de la mystique juive\,\nfacilitation d’organisations en intelligence collective. \nCette conférence vous est proposée par ZOOM\nDès 18h30 \nParticiper à la réunion Zoom :\nhttps://us02web.zoom.us/j/83704240234?pwd=S29nd25EbVRJUEtlQnVVMTZUdlAxUT09 \nID de réunion : 837 0424 0234\nCode secret : 599883
URL:https://cafe-theo-chambery.fr/evenements/mardi-5-janvier-2021-cafe-theo/
LOCATION:visioconférence Zoom
CATEGORIES:Conférences
END:VEVENT
END:VCALENDAR