BEGIN:VCALENDAR
VERSION:2.0
PRODID:-//Café Théo Chambery - ETEL - ECPv5.3.2.1//NONSGML v1.0//EN
CALSCALE:GREGORIAN
METHOD:PUBLISH
X-WR-CALNAME:Café Théo Chambery - ETEL
X-ORIGINAL-URL:https://cafe-theo-chambery.fr
X-WR-CALDESC:évènements pour Café Théo Chambery - ETEL
BEGIN:VTIMEZONE
TZID:Europe/Paris
BEGIN:DAYLIGHT
TZOFFSETFROM:+0100
TZOFFSETTO:+0200
TZNAME:CEST
DTSTART:20190331T010000
END:DAYLIGHT
BEGIN:STANDARD
TZOFFSETFROM:+0200
TZOFFSETTO:+0100
TZNAME:CET
DTSTART:20191027T010000
END:STANDARD
END:VTIMEZONE
BEGIN:VEVENT
DTSTART;TZID=Europe/Paris:20190305T183000
DTEND;TZID=Europe/Paris:20190305T210000
DTSTAMP:20260420T052042
CREATED:20181209T163701Z
LAST-MODIFIED:20190207T082459Z
UID:958-1551810600-1551819600@cafe-theo-chambery.fr
SUMMARY:Mardi 5 mars 2019 : Café théo
DESCRIPTION:« La Franc-Maçonnerie féminine\, un chemin de vie vers la connaissance »\npar Mme FREDERIQUE\, membre de la Grande Loge Féminine de France (GLFF).
URL:https://cafe-theo-chambery.fr/evenements/mardi-5-mars-2019-cafe-theo/
LOCATION:Café du Beaujolais\, 155 Rue Nicolas Parent\, Chambéry\, 73000\, France
CATEGORIES:Conférences
END:VEVENT
END:VCALENDAR