BEGIN:VCALENDAR
VERSION:2.0
PRODID:-//Café Théo Chambery - ETEL - ECPv5.3.2.1//NONSGML v1.0//EN
CALSCALE:GREGORIAN
METHOD:PUBLISH
X-WR-CALNAME:Café Théo Chambery - ETEL
X-ORIGINAL-URL:https://cafe-theo-chambery.fr
X-WR-CALDESC:évènements pour Café Théo Chambery - ETEL
BEGIN:VTIMEZONE
TZID:Europe/Paris
BEGIN:DAYLIGHT
TZOFFSETFROM:+0100
TZOFFSETTO:+0200
TZNAME:CEST
DTSTART:20190331T010000
END:DAYLIGHT
BEGIN:STANDARD
TZOFFSETFROM:+0200
TZOFFSETTO:+0100
TZNAME:CET
DTSTART:20191027T010000
END:STANDARD
END:VTIMEZONE
BEGIN:VEVENT
DTSTART;TZID=Europe/Paris:20191105T183000
DTEND;TZID=Europe/Paris:20191105T210000
DTSTAMP:20260420T032904
CREATED:20190915T191213Z
LAST-MODIFIED:20190915T191213Z
UID:1097-1572978600-1572987600@cafe-theo-chambery.fr
SUMMARY:Mardi 5 novembre 2019 - Café théo
DESCRIPTION:“Entre engagement écologique et harmonie quotidienne : itinéraire d’un couple chrétien en recherche.”\nPar Mylène et Philippe VACHETTE
URL:https://cafe-theo-chambery.fr/evenements/mardi-5-novembre-2019-cafe-theo/
LOCATION:Café du Beaujolais\, 155 Rue Nicolas Parent\, Chambéry\, 73000\, France
CATEGORIES:Conférences
END:VEVENT
END:VCALENDAR