BEGIN:VCALENDAR
VERSION:2.0
PRODID:-//Café Théo Chambery - ETEL - ECPv5.3.2.1//NONSGML v1.0//EN
CALSCALE:GREGORIAN
METHOD:PUBLISH
X-WR-CALNAME:Café Théo Chambery - ETEL
X-ORIGINAL-URL:https://cafe-theo-chambery.fr
X-WR-CALDESC:évènements pour Café Théo Chambery - ETEL
BEGIN:VTIMEZONE
TZID:Europe/Paris
BEGIN:DAYLIGHT
TZOFFSETFROM:+0100
TZOFFSETTO:+0200
TZNAME:CEST
DTSTART:20210328T010000
END:DAYLIGHT
BEGIN:STANDARD
TZOFFSETFROM:+0200
TZOFFSETTO:+0100
TZNAME:CET
DTSTART:20211031T010000
END:STANDARD
END:VTIMEZONE
BEGIN:VEVENT
DTSTART;TZID=Europe/Paris:20211005T184500
DTEND;TZID=Europe/Paris:20211005T210000
DTSTAMP:20260419T194610
CREATED:20210921T170314Z
LAST-MODIFIED:20210921T170315Z
UID:1490-1633459500-1633467600@cafe-theo-chambery.fr
SUMMARY:Mardi 5 octobre 2021 - Café théo en visioconférence
DESCRIPTION:« Coopérer avec les autres et l’invisible\, une forme de libération ? »\nPar Sophie Boivin : danseuse\, thérapeute\, facilitatrice en coopération avec le vivant et régulation des conflits. \nEt Guillaume Dorvaux : facilitateur\, formateur et accompagnateur en gouvernance partagée. \nLe faire-ensemble inspiré via Coosphère\, qui mêle les techniques d’animation en gouvernance partagée et les approches énergétiques\, nous fait vivre la coopération comme une véritable expérience spirituelle collective. \nPour plus d’information\, vous pouvez consulter le site de COOSPHERE :\nhttp://www.coosphere.com \nPour participer à la réunion Zoom\, cliquer sur le lien suivant :\nhttps://us02web.zoom.us/j/82842006378?pwd=N21ER1hqL3JZcmd2cHROZWtKY2FnUT09 \nID de réunion : 828 4200 6378
URL:https://cafe-theo-chambery.fr/evenements/mardi-5-octobre-2021-cafe-theo-en-visioconference/
CATEGORIES:Conférences
END:VEVENT
END:VCALENDAR