BEGIN:VCALENDAR
VERSION:2.0
PRODID:-//Café Théo Chambery - ETEL - ECPv5.3.2.1//NONSGML v1.0//EN
CALSCALE:GREGORIAN
METHOD:PUBLISH
X-WR-CALNAME:Café Théo Chambery - ETEL
X-ORIGINAL-URL:https://cafe-theo-chambery.fr
X-WR-CALDESC:évènements pour Café Théo Chambery - ETEL
BEGIN:VTIMEZONE
TZID:Europe/Paris
BEGIN:DAYLIGHT
TZOFFSETFROM:+0100
TZOFFSETTO:+0200
TZNAME:CEST
DTSTART:20190331T010000
END:DAYLIGHT
BEGIN:STANDARD
TZOFFSETFROM:+0200
TZOFFSETTO:+0100
TZNAME:CET
DTSTART:20191027T010000
END:STANDARD
END:VTIMEZONE
BEGIN:VEVENT
DTSTART;TZID=Europe/Paris:20190507T000000
DTEND;TZID=Europe/Paris:20190507T000000
DTSTAMP:20260420T054225
CREATED:20181209T165323Z
LAST-MODIFIED:20190323T155821Z
UID:964-1557187200-1557187200@cafe-theo-chambery.fr
SUMMARY:Mardi 7 mai 2019 - Café théo
DESCRIPTION:« Le choix du Vivant ou  Comment trouver sa voie dans un monde en mutation ? »\npar Éric JULIEN\, Géographe\, écrivain\, conférencier\, il partage son existence entre son métier de consultant- formateur en entreprise\, et l’association Tchendukua\, qu’il a fondée en France en 1997\, pour venir en aide aux Indiens Kogis. \nNous nous retrouverons exceptionnellement au Scarabée à Chambéry-le-Haut\, le 7 mai 2019 à 20 h. \nPrix des places : 10 euros\nEtudiants\, chômeurs: 7 euros \n  \n 
URL:https://cafe-theo-chambery.fr/evenements/mardi-7-mai-2019-cafe-theo/
LOCATION:Salle Le Scarabée\, 148 Avenue Daniel Rops\, Chambéry\, 73000\, France
CATEGORIES:Conférences
END:VEVENT
END:VCALENDAR